BEGIN:VCALENDAR
VERSION:2.0
PRODID:-// - ECPv6.3.1//NONSGML v1.0//EN
CALSCALE:GREGORIAN
METHOD:PUBLISH
X-ORIGINAL-URL:https://www.retrotechnic.com/doyennes
X-WR-CALDESC:évènements pour 
REFRESH-INTERVAL;VALUE=DURATION:PT1H
X-Robots-Tag:noindex
X-PUBLISHED-TTL:PT1H
BEGIN:VTIMEZONE
TZID:Europe/Paris
BEGIN:DAYLIGHT
TZOFFSETFROM:+0100
TZOFFSETTO:+0200
TZNAME:CEST
DTSTART:20240331T010000
END:DAYLIGHT
BEGIN:STANDARD
TZOFFSETFROM:+0200
TZOFFSETTO:+0100
TZNAME:CET
DTSTART:20241027T010000
END:STANDARD
END:VTIMEZONE
BEGIN:VEVENT
DTSTART;VALUE=DATE:20240309
DTEND;VALUE=DATE:20240311
DTSTAMP:20260422T124300
CREATED:20240201T202949Z
LAST-MODIFIED:20240203T091726Z
UID:562-1709942400-1710115199@www.retrotechnic.com
SUMMARY:Salon Champenois du véhicule de collection
DESCRIPTION:Retrouvez les doyennes pour la première au salon de Reims \n \n 
URL:https://www.retrotechnic.com/doyennes/activites/test/
CATEGORIES:EVENEMENTS
END:VEVENT
END:VCALENDAR